BEGIN:VCALENDAR
VERSION:2.0
PRODID:-//hrda.sk - ECPv6.15.20//NONSGML v1.0//EN
CALSCALE:GREGORIAN
METHOD:PUBLISH
X-WR-CALNAME:hrda.sk
X-ORIGINAL-URL:https://hrda.sk
X-WR-CALDESC:Udalosti pre hrda.sk
REFRESH-INTERVAL;VALUE=DURATION:PT1H
X-Robots-Tag:noindex
X-PUBLISHED-TTL:PT1H
BEGIN:VTIMEZONE
TZID:Europe/Bratislava
BEGIN:DAYLIGHT
TZOFFSETFROM:+0100
TZOFFSETTO:+0200
TZNAME:CEST
DTSTART:20250330T010000
END:DAYLIGHT
BEGIN:STANDARD
TZOFFSETFROM:+0200
TZOFFSETTO:+0100
TZNAME:CET
DTSTART:20251026T010000
END:STANDARD
BEGIN:DAYLIGHT
TZOFFSETFROM:+0100
TZOFFSETTO:+0200
TZNAME:CEST
DTSTART:20260329T010000
END:DAYLIGHT
BEGIN:STANDARD
TZOFFSETFROM:+0200
TZOFFSETTO:+0100
TZNAME:CET
DTSTART:20261025T010000
END:STANDARD
BEGIN:DAYLIGHT
TZOFFSETFROM:+0100
TZOFFSETTO:+0200
TZNAME:CEST
DTSTART:20270328T010000
END:DAYLIGHT
BEGIN:STANDARD
TZOFFSETFROM:+0200
TZOFFSETTO:+0100
TZNAME:CET
DTSTART:20271031T010000
END:STANDARD
END:VTIMEZONE
BEGIN:VEVENT
DTSTART;TZID=Europe/Bratislava:20260114T090000
DTEND;TZID=Europe/Bratislava:20260625T163000
DTSTAMP:20260425T163852
CREATED:20251125T131205Z
LAST-MODIFIED:20251125T131205Z
UID:5660-1768381200-1782405000@hrda.sk
SUMMARY:AKADÉMIA Future Job Skills 24    14. 01. - 25. 06. 2026
DESCRIPTION:Vstúp do role LEKTORA BUDÚCNOSTI\n  \nAkreditovaný vzdelávací program\nLektor (Future job skills) \n\nspája teórie vzdelávania dospelých a tréningu\nzručností budúcnosti\nvyužíva vzdelávaciu technológiu Accelium\nna rozvoj myslenia a transfer do praxe\nmožnosť absolvovať celý program alebo len\nvybrané moduly\nzdokonalíš svoje zručnosti a získaš ďalšiu\nzručnosť – posilňovať zručnosti iných ľudí\n\nPre podrobnosti alebo registráciu  klikni \nMiesto a mapa \n \n 
URL:https://hrda.sk/udalost/akademia-future-job-skills-24-14-01-25-06-2026/
LOCATION:City Park Trnava\, Trnava\, Priemyselná 7155/9\, 917 01\, Slovakia (Slovak Republic)
CATEGORIES:Akadémia Future Job Skills 24,tréning
ATTACH;FMTTYPE=image/jpeg:https://hrda.sk/wp-content/uploads/2025/11/AFJS24-main.jpg
END:VEVENT
END:VCALENDAR